{
 "currentVersion": 10.61,
 "serviceDescription": "Alaska/AK_Administered_Lands",
 "name": "Alaska/AK_Administered_Lands",
 "description": "",
 "extent": {
  "xmin": -2168988.3670000006,
  "ymin": 413804.4399999995,
  "xmax": 1491811.6329999994,
  "ymax": 2378004.4399999995,
  "spatialReference": {
   "wkid": 102006,
   "latestWkid": 3338
  }
 },
 "initialExtent": {
  "xmin": -2168988.3670000006,
  "ymin": 413804.4399999995,
  "xmax": 1491811.6329999994,
  "ymax": 2378004.4399999995,
  "spatialReference": {
   "wkid": 102006,
   "latestWkid": 3338
  }
 },
 "fullExtent": {
  "xmin": -2168988.3670000006,
  "ymin": 413804.4399999995,
  "xmax": 1491811.6329999994,
  "ymax": 2378004.4399999995,
  "spatialReference": {
   "wkid": 102006,
   "latestWkid": 3338
  }
 },
 "pixelSizeX": 100,
 "pixelSizeY": 100,
 "bandCount": 1,
 "pixelType": "U4",
 "minPixelSize": 0,
 "maxPixelSize": 0,
 "copyrightText": "",
 "serviceDataType": "esriImageServiceDataTypeThematic",
 "minValues": [
  1
 ],
 "maxValues": [
  13
 ],
 "meanValues": [
  3.965638016063108
 ],
 "stdvValues": [
  3.0365991301927893
 ],
 "objectIdField": "",
 "fields": [],
 "capabilities": "Image,Metadata,Mensuration",
 "defaultMosaicMethod": "Center",
 "allowedMosaicMethods": "",
 "sortField": "",
 "sortValue": null,
 "mosaicOperator": "First",
 "defaultCompressionQuality": 75,
 "defaultResamplingMethod": "Bilinear",
 "maxImageHeight": 4100,
 "maxImageWidth": 15000,
 "allowRasterFunction": true,
 "rasterFunctionInfos": [
  {
   "name": "None",
   "description": "",
   "help": ""
  }
 ],
 "rasterTypeInfos": [
  {
   "name": "Raster Dataset",
   "description": "Supports all ArcGIS Raster Datasets",
   "help": ""
  }
 ],
 "mensurationCapabilities": "Basic",
 "hasHistograms": true,
 "hasColormap": false,
 "hasRasterAttributeTable": true,
 "minScale": 0,
 "maxScale": 0,
 "exportTilesAllowed": false,
 "hasMultidimensions": false,
 "supportsStatistics": false,
 "supportsAdvancedQueries": false,
 "editFieldsInfo": null,
 "ownershipBasedAccessControlForRasters": null,
 "allowComputeTiePoints": false,
 "useStandardizedQueries": true,
 "advancedQueryCapabilities": {
  "useStandardizedQueries": true,
  "supportsStatistics": false,
  "supportsOrderBy": false,
  "supportsDistinct": false,
  "supportsPagination": false
 },
 "spatialReference": {
  "wkid": 102006,
  "latestWkid": 3338
 }
}
