{
 "currentVersion": 10.61,
 "serviceDescription": "sesi/conshohocken_after",
 "name": "sesi/conshohocken_after",
 "description": "",
 "extent": {
  "xmin": 467720,
  "ymin": 4433230,
  "xmax": 477380,
  "ymax": 4444180,
  "spatialReference": {
   "wkid": 32618,
   "latestWkid": 32618
  }
 },
 "initialExtent": {
  "xmin": 467720,
  "ymin": 4433230,
  "xmax": 477380,
  "ymax": 4444180,
  "spatialReference": {
   "wkid": 32618,
   "latestWkid": 32618
  }
 },
 "fullExtent": {
  "xmin": 467720,
  "ymin": 4433230,
  "xmax": 477380,
  "ymax": 4444180,
  "spatialReference": {
   "wkid": 32618,
   "latestWkid": 32618
  }
 },
 "pixelSizeX": 10,
 "pixelSizeY": 10,
 "bandCount": 7,
 "pixelType": "U16",
 "minPixelSize": 0,
 "maxPixelSize": 0,
 "copyrightText": "",
 "serviceDataType": "esriImageServiceDataTypeGeneric",
 "minValues": [
  0,
  0,
  0,
  0,
  0,
  0,
  0
 ],
 "maxValues": [
  21609,
  10435,
  7559,
  21821,
  15583,
  14562,
  13718
 ],
 "meanValues": [
  767.57261881129,
  930.32148009489,
  1018.5373899808,
  2432.6651115081,
  2660.8202435313,
  1493.8936593021,
  841.89825103755
 ],
 "stdvValues": [
  593.93920716764,
  477.87905041696,
  444.99609218066,
  920.0636662288,
  929.90543456194,
  563.97080022187,
  426.21468958091
 ],
 "objectIdField": "",
 "fields": [],
 "capabilities": "Image,Metadata,Mensuration",
 "defaultMosaicMethod": "Center",
 "allowedMosaicMethods": "",
 "sortField": "",
 "sortValue": null,
 "mosaicOperator": "First",
 "defaultCompressionQuality": 75,
 "defaultResamplingMethod": "Bilinear",
 "maxImageHeight": 4100,
 "maxImageWidth": 15000,
 "allowRasterFunction": true,
 "rasterFunctionInfos": [
  {
   "name": "None",
   "description": "",
   "help": ""
  }
 ],
 "rasterTypeInfos": [
  {
   "name": "Raster Dataset",
   "description": "Supports all ArcGIS Raster Datasets",
   "help": ""
  }
 ],
 "mensurationCapabilities": "Basic",
 "hasHistograms": false,
 "hasColormap": false,
 "hasRasterAttributeTable": false,
 "minScale": 0,
 "maxScale": 0,
 "exportTilesAllowed": false,
 "hasMultidimensions": false,
 "supportsStatistics": false,
 "supportsAdvancedQueries": false,
 "editFieldsInfo": null,
 "ownershipBasedAccessControlForRasters": null,
 "allowComputeTiePoints": false,
 "useStandardizedQueries": true,
 "advancedQueryCapabilities": {
  "useStandardizedQueries": true,
  "supportsStatistics": false,
  "supportsOrderBy": false,
  "supportsDistinct": false,
  "supportsPagination": false
 },
 "spatialReference": {
  "wkid": 32618,
  "latestWkid": 32618
 }
}
