View In:
ArcGIS JavaScript
ArcGIS Online Map Viewer
ArcGIS Earth
ArcMap
View Footprint In:
ArcGIS Online Map Viewer
Service Description: Landsat/Composite_clip
Name: Landsat/Composite_clip
Description:
Single Fused Map Cache: false
Extent:
XMin: 442845
YMin: 4380225
XMax: 469485
YMax: 4407435
Spatial Reference: 32618
(32618)
Initial Extent:
XMin: 442845
YMin: 4380225
XMax: 469485
YMax: 4407435
Spatial Reference: 32618
(32618)
Full Extent:
XMin: 442845
YMin: 4380225
XMax: 469485
YMax: 4407435
Spatial Reference: 32618
(32618)
Pixel Size X: 30.0
Pixel Size Y: 30.0
Band Count: 7
Pixel Type: U16
RasterFunction Infos: {"rasterFunctionInfos": [{
"name": "None",
"description": "",
"help": ""
}]}
Mensuration Capabilities: Basic
Has Histograms: true
Has Colormap: false
Has Multi Dimensions : false
Rendering Rule:
Min Scale: 0
Max Scale: 0
Copyright Text:
Service Data Type: esriImageServiceDataTypeGeneric
Min Values: 87, 100, 4913, 4509, 5853, 6922, 7089
Max Values: 49397, 48701, 48077, 49446, 55045, 57194, 55047
Mean Values: 8642.920561942641, 8906.517908969989, 9919.556020959497, 9609.159023993538, 17683.762501648936, 13130.61444426463, 10665.962717064474
Standard Deviation Values: 1263.3894431345757, 1388.8239410580913, 1536.8058405000697, 1886.5310037378918, 5336.67407860531, 2986.6719107961076, 2142.1128139063712
Object ID Field:
Fields:
None
Default Mosaic Method: Center
Allowed Mosaic Methods:
SortField:
SortValue: null
Mosaic Operator: First
Default Compression Quality: 75
Default Resampling Method: Bicubic
Max Record Count: null
Max Image Height: 4100
Max Image Width: 15000
Max Download Image Count: null
Max Mosaic Image Count: null
Allow Raster Function: true
Allow Compute TiePoints: false
Supports Statistics: false
Supports Advanced Queries: false
Use StandardizedQueries: true
Raster Type Infos:
Name: Raster Dataset
Description: Supports all ArcGIS Raster Datasets
Help:
Has Raster Attribute Table: false
Edit Fields Info: null
Ownership Based AccessControl For Rasters: null
Child Resources:
Info
Histograms
Key Properties
Legend
MultiDimensionalInfo
rasterFunctionInfos
Supported Operations:
Export Image
Identify
Measure
Compute Histograms
Compute Statistics Histograms
Get Samples
Compute Class Statistics
Query Boundary