View In:
ArcGIS JavaScript
ArcGIS Online Map Viewer
ArcGIS Earth
ArcMap
View Footprint In:
ArcGIS Online Map Viewer
Service Description: sesi/PHIL_WIL_LST
Name: sesi/PHIL_WIL_LST
Description:
Single Fused Map Cache: false
Extent:
XMin: 438225
YMin: 4379565
XMax: 501975
YMax: 4447935
Spatial Reference: 32618
(32618)
Initial Extent:
XMin: 438225
YMin: 4379565
XMax: 501975
YMax: 4447935
Spatial Reference: 32618
(32618)
Full Extent:
XMin: 438225
YMin: 4379565
XMax: 501975
YMax: 4447935
Spatial Reference: 32618
(32618)
Pixel Size X: 30.0
Pixel Size Y: 30.0
Band Count: 1
Pixel Type: F32
RasterFunction Infos: {"rasterFunctionInfos": [{
"name": "None",
"description": "",
"help": ""
}]}
Mensuration Capabilities: Basic
Has Histograms: true
Has Colormap: false
Has Multi Dimensions : false
Rendering Rule:
Min Scale: 0
Max Scale: 0
Copyright Text:
Service Data Type: esriImageServiceDataTypeGeneric
Min Values: 17.434831619262695
Max Values: 40.804283142089844
Mean Values: 26.463002765397043
Standard Deviation Values: 2.3973132756894056
Object ID Field:
Fields:
None
Default Mosaic Method: Center
Allowed Mosaic Methods:
SortField:
SortValue: null
Mosaic Operator: First
Default Compression Quality: 75
Default Resampling Method: Bilinear
Max Record Count: null
Max Image Height: 4100
Max Image Width: 15000
Max Download Image Count: null
Max Mosaic Image Count: null
Allow Raster Function: true
Allow Compute TiePoints: false
Supports Statistics: false
Supports Advanced Queries: false
Use StandardizedQueries: true
Raster Type Infos:
Name: Raster Dataset
Description: Supports all ArcGIS Raster Datasets
Help:
Has Raster Attribute Table: false
Edit Fields Info: null
Ownership Based AccessControl For Rasters: null
Child Resources:
Info
Histograms
Key Properties
Legend
MultiDimensionalInfo
rasterFunctionInfos
Supported Operations:
Export Image
Identify
Measure
Compute Histograms
Compute Statistics Histograms
Get Samples
Compute Class Statistics
Query Boundary