View In:
ArcGIS JavaScript
ArcGIS Online Map Viewer
ArcGIS Earth
ArcMap
View Footprint In:
ArcGIS Online Map Viewer
Service Description: sesi/nrel_wind_60m
Name: sesi/nrel_wind_60m
Description:
Single Fused Map Cache: false
Extent:
XMin: -1.4029352433666535E7
YMin: 2729641.258334973
XMax: -7453476.237469124
YMax: 6338670.96869096
Spatial Reference: 102100
(3857)
Initial Extent:
XMin: -1.4029352433666535E7
YMin: 2729641.258334973
XMax: -7453476.237469124
YMax: 6338670.96869096
Spatial Reference: 102100
(3857)
Full Extent:
XMin: -1.4029352433666535E7
YMin: 2729641.258334973
XMax: -7453476.237469124
YMax: 6338670.96869096
Spatial Reference: 102100
(3857)
Pixel Size X: 2000.570792880259
Pixel Size Y: 2000.5707928802588
Band Count: 1
Pixel Type: F64
RasterFunction Infos: {"rasterFunctionInfos": [{
"name": "None",
"description": "",
"help": ""
}]}
Mensuration Capabilities: Basic
Has Histograms: true
Has Colormap: false
Has Multi Dimensions : false
Rendering Rule:
Min Scale: 0
Max Scale: 0
Copyright Text:
Service Data Type: esriImageServiceDataTypeGeneric
Min Values: 1.483182822283722
Max Values: 14.00396743361767
Mean Values: 6.064529358839911
Standard Deviation Values: 1.1497191499459176
Object ID Field:
Fields:
None
Default Mosaic Method: Center
Allowed Mosaic Methods:
SortField:
SortValue: null
Mosaic Operator: First
Default Compression Quality: 75
Default Resampling Method: Bilinear
Max Record Count: null
Max Image Height: 4100
Max Image Width: 15000
Max Download Image Count: null
Max Mosaic Image Count: null
Allow Raster Function: true
Allow Compute TiePoints: false
Supports Statistics: false
Supports Advanced Queries: false
Use StandardizedQueries: true
Raster Type Infos:
Name: Raster Dataset
Description: Supports all ArcGIS Raster Datasets
Help:
Has Raster Attribute Table: false
Edit Fields Info: null
Ownership Based AccessControl For Rasters: null
Child Resources:
Info
Histograms
Key Properties
Legend
MultiDimensionalInfo
rasterFunctionInfos
Supported Operations:
Export Image
Identify
Measure
Compute Histograms
Compute Statistics Histograms
Get Samples
Compute Class Statistics
Query Boundary