View In:
ArcGIS JavaScript
ArcGIS Online Map Viewer
ArcGIS Earth
ArcMap
View Footprint In:
ArcGIS Online Map Viewer
Service Description: telecom/ODEC_TELCO_ASBUILTS_LEHIGH_UNI_COB
Name: telecom/ODEC_TELCO_ASBUILTS_LEHIGH_UNI_COB
Description:
Single Fused Map Cache: false
Extent:
XMin: -8390793.978728142
YMin: 4954736.185397327
XMax: -8390613.491773974
YMax: 4954869.213546965
Spatial Reference: 102100
(3857)
Initial Extent:
XMin: -8390793.978728142
YMin: 4954736.185397327
XMax: -8390613.491773974
YMax: 4954869.213546965
Spatial Reference: 102100
(3857)
Full Extent:
XMin: -8390793.978728142
YMin: 4954736.185397327
XMax: -8390613.491773974
YMax: 4954869.213546965
Spatial Reference: 102100
(3857)
Pixel Size X: 0.007162180720931954
Pixel Size Y: 0.007390452757684721
Band Count: 3
Pixel Type: U8
RasterFunction Infos: {"rasterFunctionInfos": [{
"name": "None",
"description": "",
"help": ""
}]}
Mensuration Capabilities: Basic
Has Histograms: true
Has Colormap: false
Has Multi Dimensions : false
Rendering Rule:
Min Scale: 0
Max Scale: 0
Copyright Text:
Service Data Type: esriImageServiceDataTypeRGB
Min Values: 0, 0, 0
Max Values: 255, 255, 255
Mean Values: 249.31430862219, 249.27783647285, 249.24841673703
Standard Deviation Values: 36.176713216994, 36.276309706137, 36.389539150823
Object ID Field:
Fields:
None
Default Mosaic Method: Center
Allowed Mosaic Methods:
SortField:
SortValue: null
Mosaic Operator: First
Default Compression Quality: 75
Default Resampling Method: Bilinear
Max Record Count: null
Max Image Height: 4100
Max Image Width: 15000
Max Download Image Count: null
Max Mosaic Image Count: null
Allow Raster Function: true
Allow Compute TiePoints: false
Supports Statistics: false
Supports Advanced Queries: false
Use StandardizedQueries: true
Raster Type Infos:
Name: Raster Dataset
Description: Supports all ArcGIS Raster Datasets
Help:
Has Raster Attribute Table: false
Edit Fields Info: null
Ownership Based AccessControl For Rasters: null
Child Resources:
Info
Histograms
Key Properties
Legend
MultiDimensionalInfo
rasterFunctionInfos
Supported Operations:
Export Image
Identify
Measure
Compute Histograms
Compute Statistics Histograms
Get Samples
Compute Class Statistics
Query Boundary