View In:
ArcGIS JavaScript
ArcGIS Online Map Viewer
ArcGIS Earth
ArcMap
View Footprint In:
ArcGIS Online Map Viewer
Service Description: Alaska/AK_Administered_Lands
Name: Alaska/AK_Administered_Lands
Description:
Single Fused Map Cache: false
Extent:
XMin: -2168988.3670000006
YMin: 413804.4399999995
XMax: 1491811.6329999994
YMax: 2378004.4399999995
Spatial Reference: 102006
(3338)
Initial Extent:
XMin: -2168988.3670000006
YMin: 413804.4399999995
XMax: 1491811.6329999994
YMax: 2378004.4399999995
Spatial Reference: 102006
(3338)
Full Extent:
XMin: -2168988.3670000006
YMin: 413804.4399999995
XMax: 1491811.6329999994
YMax: 2378004.4399999995
Spatial Reference: 102006
(3338)
Pixel Size X: 100.0
Pixel Size Y: 100.0
Band Count: 1
Pixel Type: U4
RasterFunction Infos: {"rasterFunctionInfos": [{
"name": "None",
"description": "",
"help": ""
}]}
Mensuration Capabilities: Basic
Has Histograms: true
Has Colormap: false
Has Multi Dimensions : false
Rendering Rule:
Min Scale: 0
Max Scale: 0
Copyright Text:
Service Data Type: esriImageServiceDataTypeThematic
Min Values: 1
Max Values: 13
Mean Values: 3.965638016063108
Standard Deviation Values: 3.0365991301927893
Object ID Field:
Fields:
None
Default Mosaic Method: Center
Allowed Mosaic Methods:
SortField:
SortValue: null
Mosaic Operator: First
Default Compression Quality: 75
Default Resampling Method: Bilinear
Max Record Count: null
Max Image Height: 4100
Max Image Width: 15000
Max Download Image Count: null
Max Mosaic Image Count: null
Allow Raster Function: true
Allow Compute TiePoints: false
Supports Statistics: false
Supports Advanced Queries: false
Use StandardizedQueries: true
Raster Type Infos:
Name: Raster Dataset
Description: Supports all ArcGIS Raster Datasets
Help:
Has Raster Attribute Table: true
Edit Fields Info: null
Ownership Based AccessControl For Rasters: null
Child Resources:
Info
Raster Attribute Table
Histograms
Key Properties
Legend
MultiDimensionalInfo
rasterFunctionInfos
Supported Operations:
Export Image
Identify
Measure
Compute Histograms
Compute Statistics Histograms
Get Samples
Compute Class Statistics
Query Boundary