View In:
ArcGIS JavaScript
ArcGIS Online Map Viewer
ArcGIS Earth
ArcMap
View Footprint In:
ArcGIS Online Map Viewer
Service Description: sesi/conshohocken_after
Name: sesi/conshohocken_after
Description:
Single Fused Map Cache: false
Extent:
XMin: 467720
YMin: 4433230
XMax: 477380
YMax: 4444180
Spatial Reference: 32618
(32618)
Initial Extent:
XMin: 467720
YMin: 4433230
XMax: 477380
YMax: 4444180
Spatial Reference: 32618
(32618)
Full Extent:
XMin: 467720
YMin: 4433230
XMax: 477380
YMax: 4444180
Spatial Reference: 32618
(32618)
Pixel Size X: 10.0
Pixel Size Y: 10.0
Band Count: 7
Pixel Type: U16
RasterFunction Infos: {"rasterFunctionInfos": [{
"name": "None",
"description": "",
"help": ""
}]}
Mensuration Capabilities: Basic
Has Histograms: false
Has Colormap: false
Has Multi Dimensions : false
Rendering Rule:
Min Scale: 0
Max Scale: 0
Copyright Text:
Service Data Type: esriImageServiceDataTypeGeneric
Min Values: 0, 0, 0, 0, 0, 0, 0
Max Values: 21609, 10435, 7559, 21821, 15583, 14562, 13718
Mean Values: 767.57261881129, 930.32148009489, 1018.5373899808, 2432.6651115081, 2660.8202435313, 1493.8936593021, 841.89825103755
Standard Deviation Values: 593.93920716764, 477.87905041696, 444.99609218066, 920.0636662288, 929.90543456194, 563.97080022187, 426.21468958091
Object ID Field:
Fields:
None
Default Mosaic Method: Center
Allowed Mosaic Methods:
SortField:
SortValue: null
Mosaic Operator: First
Default Compression Quality: 75
Default Resampling Method: Bilinear
Max Record Count: null
Max Image Height: 4100
Max Image Width: 15000
Max Download Image Count: null
Max Mosaic Image Count: null
Allow Raster Function: true
Allow Compute TiePoints: false
Supports Statistics: false
Supports Advanced Queries: false
Use StandardizedQueries: true
Raster Type Infos:
Name: Raster Dataset
Description: Supports all ArcGIS Raster Datasets
Help:
Has Raster Attribute Table: false
Edit Fields Info: null
Ownership Based AccessControl For Rasters: null
Child Resources:
Info
Key Properties
Legend
MultiDimensionalInfo
rasterFunctionInfos
Supported Operations:
Export Image
Identify
Measure
Compute Histograms
Compute Statistics Histograms
Get Samples
Compute Class Statistics
Query Boundary